BEGIN:VCALENDAR
VERSION:2.0
PRODID:-//wp-events-plugin.com//7.2.3.1//EN
TZID:Europe/Berlin
X-WR-TIMEZONE:Europe/Berlin
BEGIN:VEVENT
UID:522@katholische-kirche-esens.de
DTSTART;TZID=Europe/Berlin:20251114T163000
DTEND;TZID=Europe/Berlin:20251114T180000
DTSTAMP:20250930T070414Z
URL:https://www.katholische-kirche-esens.de/veranstaltungen/st-martin-mit-
 laternenumzug-in-esens/
SUMMARY:St. Martin mit Laternenumzug in Esens
DESCRIPTION:Am 14.11. findet unser alljährlicher Laternenumzug statt.\n\nE
 s geht in St. Willehad los mit einer kleinen Vorführung der Kinder um 16.
 30 Uhr.\n\nMit St. Martin auf einem Pferd vorneweg ziehen wir danach mit u
 nseren Laternen und mit gemeinsam gesungenen Liedern zur evangelischen St.
  Magnus-Kirche. Dort teilen wir Brötchen und wir können uns bei warmen u
 nd kalten Getränken und Bratwurst gemeinsam austauschen.\n\nAlle sind her
 zlich eingeladen\, dabei zu sein!\n\nWir suchen noch Kinder ab 6 Jahren f
 ür die Aufführung! Wir haben kleine etwa halbstündige Proben am 9.10.\,
  30.10.\, 6.11. und 13.11.\, jeweils um 17 Uhr in St. Willehad. Bei Fragen
  gerne melden bei Corinna Vollmer: Cor-vollmer@web.de
ATTACH;FMTTYPE=image/jpeg:https://www.katholische-kirche-esens.de/wp-conte
 nt/uploads/2025/09/Martinsumzug_Website-2025.jpg
CATEGORIES:Kinder
LOCATION:Kirche St. Willehad Esens\, Marienkamper Straße 14\, Esens\, 2642
 7\, Deutschland
X-APPLE-STRUCTURED-LOCATION;VALUE=URI;X-ADDRESS=Marienkamper Straße 14\, E
 sens\, 26427\, Deutschland;X-APPLE-RADIUS=100;X-TITLE=Kirche St. Willehad 
 Esens:geo:0,0
END:VEVENT
BEGIN:VTIMEZONE
TZID:Europe/Berlin
X-LIC-LOCATION:Europe/Berlin
BEGIN:STANDARD
DTSTART:20251026T020000
TZOFFSETFROM:+0200
TZOFFSETTO:+0100
TZNAME:CET
END:STANDARD
END:VTIMEZONE
END:VCALENDAR