BEGIN:VCALENDAR
VERSION:2.0
PRODID:-//wp-events-plugin.com//7.2.3.1//EN
TZID:Europe/Berlin
X-WR-TIMEZONE:Europe/Berlin
BEGIN:VEVENT
UID:539@katholische-kirche-esens.de
DTSTART;TZID=Europe/Berlin:20260113T173000
DTEND;TZID=Europe/Berlin:20260113T190000
DTSTAMP:20260107T175049Z
URL:https://www.katholische-kirche-esens.de/veranstaltungen/pgr-sachaussch
 uss-liturgie/
SUMMARY:PGR Sachausschuss Liturgie
DESCRIPTION:
CATEGORIES:Gruppen und Verbände
LOCATION:Gemeindehaus St. Willehad\, MArienkamper Str. 14\, Esens\, Deutsch
 land
X-APPLE-STRUCTURED-LOCATION;VALUE=URI;X-ADDRESS=MArienkamper Str. 14\, Esen
 s\, Deutschland;X-APPLE-RADIUS=100;X-TITLE=Gemeindehaus St. Willehad:geo:0
 ,0
END:VEVENT
BEGIN:VTIMEZONE
TZID:Europe/Berlin
X-LIC-LOCATION:Europe/Berlin
BEGIN:STANDARD
DTSTART:20251026T020000
TZOFFSETFROM:+0200
TZOFFSETTO:+0100
TZNAME:CET
END:STANDARD
END:VTIMEZONE
END:VCALENDAR