BEGIN:VCALENDAR
VERSION:2.0
PRODID:-//wp-events-plugin.com//7.2.3.1//EN
TZID:Europe/Berlin
X-WR-TIMEZONE:Europe/Berlin
BEGIN:VEVENT
UID:558@katholische-kirche-esens.de
DTSTART;TZID=Europe/Berlin:20260126T183000
DTEND;TZID=Europe/Berlin:20260126T200000
DTSTAMP:20251127T154726Z
URL:https://www.katholische-kirche-esens.de/veranstaltungen/offenener-sing
 kreis-2026-01-05-2026-01-12-2026-01-19-2026-01-26/
SUMMARY:offenener Singkreis
DESCRIPTION:Alle\, die gerne singen möchten\, sind herzlich eingeladen an 
 jedem Montag um 18:30 Uhr zum Treffen unseres Singkreises im Gemeindehaus.
 \n\nWir wollen dabei keinen Chorgesang einüben\, sondern wollen nur zusam
 men kommen aus Freude am gemeinsamen Singen.
ATTACH;FMTTYPE=image/jpeg:https://www.katholische-kirche-esens.de/wp-conte
 nt/uploads/2024/09/Singkreis3.jpg
LOCATION:Kirche St. Willehad Esens\, Marienkamper Straße 14\, Esens\, 2642
 7\, Deutschland
X-APPLE-STRUCTURED-LOCATION;VALUE=URI;X-ADDRESS=Marienkamper Straße 14\, E
 sens\, 26427\, Deutschland;X-APPLE-RADIUS=100;X-TITLE=Kirche St. Willehad 
 Esens:geo:0,0
END:VEVENT
BEGIN:VTIMEZONE
TZID:Europe/Berlin
X-LIC-LOCATION:Europe/Berlin
BEGIN:STANDARD
DTSTART:20251026T020000
TZOFFSETFROM:+0200
TZOFFSETTO:+0100
TZNAME:CET
END:STANDARD
END:VTIMEZONE
END:VCALENDAR