BEGIN:VCALENDAR
VERSION:2.0
PRODID:-//wp-events-plugin.com//7.2.3.1//EN
TZID:Europe/Berlin
X-WR-TIMEZONE:Europe/Berlin
BEGIN:VEVENT
UID:534@katholische-kirche-esens.de
DTSTART;TZID=Europe/Berlin:20251021T140000
DTEND;TZID=Europe/Berlin:20251021T180000
DTSTAMP:20251021T102131Z
URL:https://www.katholische-kirche-esens.de/veranstaltungen/oekumeische-ta
 ge-der-steine-lego-projekt-2/
SUMMARY:Ökumenische "Tage der Steine"  Lego-Projekt
DESCRIPTION:
ATTACH;FMTTYPE=image/jpeg:https://www.katholische-kirche-esens.de/wp-conte
 nt/uploads/2025/09/Lego-Tage_Website-2025.jpg
CATEGORIES:Kinder
LOCATION:Baptistengemeinde\, Hohekamp 10\, 26427 Esens \, Deutschland\, 264
 27\, Deutschland
X-APPLE-STRUCTURED-LOCATION;VALUE=URI;X-ADDRESS=Hohekamp 10\, 26427 Esens \
 , Deutschland\, 26427\, Deutschland;X-APPLE-RADIUS=100;X-TITLE=Baptistenge
 meinde:geo:0,0
END:VEVENT
BEGIN:VTIMEZONE
TZID:Europe/Berlin
X-LIC-LOCATION:Europe/Berlin
BEGIN:DAYLIGHT
DTSTART:20250330T030000
TZOFFSETFROM:+0100
TZOFFSETTO:+0200
TZNAME:CEST
END:DAYLIGHT
END:VTIMEZONE
END:VCALENDAR