BEGIN:VCALENDAR
VERSION:2.0
PRODID:-//wp-events-plugin.com//7.2.3.1//EN
TZID:Europe/Berlin
X-WR-TIMEZONE:Europe/Berlin
BEGIN:VEVENT
UID:538@katholische-kirche-esens.de
DTSTART;TZID=Europe/Berlin:20251214T173000
DTEND;TZID=Europe/Berlin:20251214T180000
DTSTAMP:20251028T114224Z
URL:https://www.katholische-kirche-esens.de/veranstaltungen/lebendiger-adv
 entskalender-2/
SUMMARY:Lebendiger Adventskalender
DESCRIPTION:Wieder ist Weihnachten einen Tag näher gerückt. Deshalb öffn
 et an diesem 3. Advent um 17.00 Uhr sich die 14. Tür. Musik\, Gedanken zu
 m Fest\, Singen... und anschließend ein Beisammensein bei heißen Geträn
 ken und Keksen
ATTACH;FMTTYPE=image/jpeg:https://www.katholische-kirche-esens.de/wp-conte
 nt/uploads/2024/11/IMG_8788.jpg
CATEGORIES:Andacht,Sonstige
LOCATION:Kirche St. Willehad Esens\, Marienkamper Straße 14\, Esens\, 2642
 7\, Deutschland
X-APPLE-STRUCTURED-LOCATION;VALUE=URI;X-ADDRESS=Marienkamper Straße 14\, E
 sens\, 26427\, Deutschland;X-APPLE-RADIUS=100;X-TITLE=Kirche St. Willehad 
 Esens:geo:0,0
END:VEVENT
BEGIN:VTIMEZONE
TZID:Europe/Berlin
X-LIC-LOCATION:Europe/Berlin
BEGIN:STANDARD
DTSTART:20251026T020000
TZOFFSETFROM:+0200
TZOFFSETTO:+0100
TZNAME:CET
END:STANDARD
END:VTIMEZONE
END:VCALENDAR