BEGIN:VCALENDAR
VERSION:2.0
PRODID:-//wp-events-plugin.com//7.2.3.1//EN
TZID:Europe/Berlin
X-WR-TIMEZONE:Europe/Berlin
BEGIN:VEVENT
UID:537@katholische-kirche-esens.de
DTSTART;TZID=Europe/Berlin:20251217T170000
DTEND;TZID=Europe/Berlin:20251217T180000
DTSTAMP:20251028T100938Z
URL:https://www.katholische-kirche-esens.de/veranstaltungen/konzert-mit-de
 m-kiewer-orgeltrio-2/
SUMMARY:Konzert mit dem "Kiewer Orgeltrio"
DESCRIPTION:Zum wiederholten Male kommt das Kiewer Orgeltrio nach St. Wille
 had - diesmal zu einem vorweihnachtlichen Konzert am 17.12. um 17.00 Uhr. 
 Der Eintritt ist frei\, um eine Spende für die ukrainischen Musiker wird 
 gebeten
ATTACH;FMTTYPE=image/jpeg:https://www.katholische-kirche-esens.de/wp-conte
 nt/uploads/2025/10/Kiewer-Orgeltrio.jpg
CATEGORIES:Konzert
LOCATION:Kirche St. Willehad Esens\, Marienkamper Straße 14\, Esens\, 2642
 7\, Deutschland
X-APPLE-STRUCTURED-LOCATION;VALUE=URI;X-ADDRESS=Marienkamper Straße 14\, E
 sens\, 26427\, Deutschland;X-APPLE-RADIUS=100;X-TITLE=Kirche St. Willehad 
 Esens:geo:0,0
END:VEVENT
BEGIN:VTIMEZONE
TZID:Europe/Berlin
X-LIC-LOCATION:Europe/Berlin
BEGIN:STANDARD
DTSTART:20251026T020000
TZOFFSETFROM:+0200
TZOFFSETTO:+0100
TZNAME:CET
END:STANDARD
END:VTIMEZONE
END:VCALENDAR