BEGIN:VCALENDAR
VERSION:2.0
PRODID:-//wp-events-plugin.com//7.2.3.1//EN
TZID:Europe/Berlin
X-WR-TIMEZONE:Europe/Berlin
BEGIN:VEVENT
UID:653@katholische-kirche-esens.de
DTSTART;TZID=Europe/Berlin:20260415T160000
DTEND;TZID=Europe/Berlin:20260415T173000
DTSTAMP:20251127T155711Z
URL:https://www.katholische-kirche-esens.de/veranstaltungen/kindergruppe-2
 026-01-21-2026-02-18-2026-03-18-2026-04-15/
SUMMARY:Kindergruppe
DESCRIPTION:Jeden 3. Mittwoch im Monat um 16 Uhr trifft sich die Kindergrup
 pe im Gemeindehaus\, um zusammen zu spielen\, zu basteln\, Geschichten zu 
 hören und mehr. Es werden aber auch Ausflüge unternommen. Herzlich willk
 ommen!
ATTACH;FMTTYPE=image/jpeg:https://www.katholische-kirche-esens.de/wp-conte
 nt/uploads/2024/09/Bobbycars-scaled.jpg
CATEGORIES:Kinder,Sonstige
LOCATION:Gemeindehaus St. Willehad\, MArienkamper Str. 14\, Esens\, Deutsch
 land
X-APPLE-STRUCTURED-LOCATION;VALUE=URI;X-ADDRESS=MArienkamper Str. 14\, Esen
 s\, Deutschland;X-APPLE-RADIUS=100;X-TITLE=Gemeindehaus St. Willehad:geo:0
 ,0
END:VEVENT
BEGIN:VTIMEZONE
TZID:Europe/Berlin
X-LIC-LOCATION:Europe/Berlin
BEGIN:DAYLIGHT
DTSTART:20260329T030000
TZOFFSETFROM:+0100
TZOFFSETTO:+0200
TZNAME:CEST
END:DAYLIGHT
END:VTIMEZONE
END:VCALENDAR