BEGIN:VCALENDAR
VERSION:2.0
PRODID:-//wp-events-plugin.com//7.2.3.1//EN
TZID:Europe/Berlin
X-WR-TIMEZONE:Europe/Berlin
BEGIN:VEVENT
UID:346@katholische-kirche-esens.de
DTSTART;TZID=Europe/Berlin:20250303T153000
DTEND;TZID=Europe/Berlin:20250303T173000
DTSTAMP:20250217T093019Z
URL:https://www.katholische-kirche-esens.de/veranstaltungen/kinder-karneva
 l/
SUMMARY:Kinder - Karneval
DESCRIPTION:Einladung zum ökum. Kinder-Karneval in Esens
ATTACH;FMTTYPE=image/jpeg:https://www.katholische-kirche-esens.de/wp-conte
 nt/uploads/2025/02/Karneval-2025.jpg
CATEGORIES:Andacht,Kinder
LOCATION:Gemeindehaus St. Willehad\, MArienkamper Str. 14\, Esens\, Deutsch
 land
X-APPLE-STRUCTURED-LOCATION;VALUE=URI;X-ADDRESS=MArienkamper Str. 14\, Esen
 s\, Deutschland;X-APPLE-RADIUS=100;X-TITLE=Gemeindehaus St. Willehad:geo:0
 ,0
END:VEVENT
BEGIN:VTIMEZONE
TZID:Europe/Berlin
X-LIC-LOCATION:Europe/Berlin
BEGIN:STANDARD
DTSTART:20241027T020000
TZOFFSETFROM:+0200
TZOFFSETTO:+0100
TZNAME:CET
END:STANDARD
END:VTIMEZONE
END:VCALENDAR