BEGIN:VCALENDAR
VERSION:2.0
PRODID:-//wp-events-plugin.com//7.2.3.1//EN
TZID:Europe/Berlin
X-WR-TIMEZONE:Europe/Berlin
BEGIN:VEVENT
UID:779@katholische-kirche-esens.de
DTSTART;TZID=Europe/Berlin:20260218T160000
DTEND;TZID=Europe/Berlin:20260218T170000
DTSTAMP:20260203T075418Z
URL:https://www.katholische-kirche-esens.de/veranstaltungen/kinder-gottesd
 ienst-am-aschermittwoch/
SUMMARY:(Kinder-)Gottesdienst am Aschermittwoch
DESCRIPTION:Mit dem Aschermittwoch beginnt die Fastenzeit.\nWir bereiten un
 s auf Ostern vor.\nUm gemeinsam in diese besonderen Wochen zu gehen\,\nlad
 en wir besonders Kinder und ihre Familien\,\naber auch alle anderen Gemein
 demitglieder\nzu einem Gottesdienst in unsere Pfarrkirche\nSt. Willehad in
  Esens ein:\nMittwoch\,\n18. Februar 2026\n16:00 Uhr
ATTACH;FMTTYPE=image/jpeg:https://www.katholische-kirche-esens.de/wp-conte
 nt/uploads/2026/02/Aschermittwoch_Website-002-Hintergrund.jpg
LOCATION:Kirche St. Willehad Esens\, Marienkamper Straße 14\, Esens\, 2642
 7\, Deutschland
X-APPLE-STRUCTURED-LOCATION;VALUE=URI;X-ADDRESS=Marienkamper Straße 14\, E
 sens\, 26427\, Deutschland;X-APPLE-RADIUS=100;X-TITLE=Kirche St. Willehad 
 Esens:geo:0,0
END:VEVENT
BEGIN:VTIMEZONE
TZID:Europe/Berlin
X-LIC-LOCATION:Europe/Berlin
BEGIN:STANDARD
DTSTART:20251026T020000
TZOFFSETFROM:+0200
TZOFFSETTO:+0100
TZNAME:CET
END:STANDARD
END:VTIMEZONE
END:VCALENDAR