BEGIN:VCALENDAR
VERSION:2.0
PRODID:-//wp-events-plugin.com//7.2.3.1//EN
TZID:Europe/Berlin
X-WR-TIMEZONE:Europe/Berlin
BEGIN:VEVENT
UID:773@katholische-kirche-esens.de
DTSTART;TZID=Europe/Berlin:20251220T140000
DTEND;TZID=Europe/Berlin:20251220T160000
DTSTAMP:20251218T145940Z
URL:https://www.katholische-kirche-esens.de/veranstaltungen/info-treffen-s
 ternsingeraktion-2026/
SUMMARY:Info Treffen Sternsingeraktion 2026
DESCRIPTION:Bei der Sternsingeraktion 2026 richten wir den Blick nach Bangl
 adesch. Trotz Fortschritten im Kampf gegen Kinderarbeit müssen in dem sü
 dasiatischen Land noch rund 1\,8 Millionen Kinder und Jugendliche arbeiten
  – 1\,1 Millionen sogar unter besonders gesundheitsschädlichen und ausb
 euterischen Bedingungen. Sternsinger-Partnerorganisationen setzen sich daf
 ür ein\, Kinder aus Arbeitsverhältnissen zu befreien und ihnen den Schul
 besuch zu ermöglichen.\n\nEin Treffen für alle Sternsinger findet am Sam
 stag\, 20.12.2025 von 14 bis 16 Uhr im Gemeindehaus statt. Dort erfahrt ih
 r\, was es bedeutet\, Sternsinger zu sein. Wir werden den Segensspruch und
  das Sternsinger Lied üben\, die Gewänder verteilen und offene Fragen be
 antworten. Wir freuen uns auf viele Kinder\, die uns bei der Aktion unters
 tützen möchten.\n\n&nbsp\;\n\nDer Aussendungsgottesdienst findet am 10.0
 1.2026 um 9.30 Uhr in St. Willehad statt.
ATTACH;FMTTYPE=image/jpeg:https://www.katholische-kirche-esens.de/wp-conte
 nt/uploads/2025/12/Sternsinger-26.jpg
CATEGORIES:Kinder
LOCATION:Gemeindehaus St. Willehad\, MArienkamper Str. 14\, Esens\, Deutsch
 land
X-APPLE-STRUCTURED-LOCATION;VALUE=URI;X-ADDRESS=MArienkamper Str. 14\, Esen
 s\, Deutschland;X-APPLE-RADIUS=100;X-TITLE=Gemeindehaus St. Willehad:geo:0
 ,0
END:VEVENT
BEGIN:VTIMEZONE
TZID:Europe/Berlin
X-LIC-LOCATION:Europe/Berlin
BEGIN:STANDARD
DTSTART:20251026T020000
TZOFFSETFROM:+0200
TZOFFSETTO:+0100
TZNAME:CET
END:STANDARD
END:VTIMEZONE
END:VCALENDAR