BEGIN:VCALENDAR
VERSION:2.0
PRODID:-//wp-events-plugin.com//7.2.3.1//EN
TZID:Europe/Berlin
X-WR-TIMEZONE:Europe/Berlin
BEGIN:VEVENT
UID:528@katholische-kirche-esens.de
DTSTART;TZID=Europe/Berlin:20251009T170000
DTEND;TZID=Europe/Berlin:20251009T173000
DTSTAMP:20250930T070059Z
URL:https://www.katholische-kirche-esens.de/veranstaltungen/1-probe-st-mar
 tins-auffuehrung/
SUMMARY:1. Probe St. Martins-Aufführung
DESCRIPTION:Für unseren alljährlichen Laternenumzug zu St. Martin\, am 14
 .11. suchen wir noch Kinder ab 6 Jahren für die Aufführung in St. Willeh
 ad.\n\nWir haben kleine etwa halbstündige Proben am 9.10.\, 30.10.\, 6.11
 . und 13.11.\, jeweils um 17 Uhr in St. Willehad.\n\nBei Fragen gerne meld
 en bei Corinna Vollmer: Cor-vollmer@web.de\n\nAm 14.11. findet findet dann
  der Laternenumzug statt.\n\nEs geht in St. Willehad los mit einer kleinen
  Vorführung der Kinder um 16.30 Uhr.\n\nMit St. Martin auf einem Pferd vo
 rneweg ziehen wir danach mit unseren Laternen und mit gemeinsam gesungenen
  Liedern zur evangelischen St. Magnus-Kirche. Dort teilen wir Brötchen un
 d wir können uns bei warmen und kalten Getränken und Bratwurst gemeinsam
  austauschen.\n\nAlle sind herzlich eingeladen\, dabei zu sein!
ATTACH;FMTTYPE=image/jpeg:https://www.katholische-kirche-esens.de/wp-conte
 nt/uploads/2025/09/Proben-Martinsspiel_Website-2025.jpg
CATEGORIES:Kinder
LOCATION:Kirche St. Willehad Esens\, Marienkamper Straße 14\, Esens\, 2642
 7\, Deutschland
X-APPLE-STRUCTURED-LOCATION;VALUE=URI;X-ADDRESS=Marienkamper Straße 14\, E
 sens\, 26427\, Deutschland;X-APPLE-RADIUS=100;X-TITLE=Kirche St. Willehad 
 Esens:geo:0,0
END:VEVENT
BEGIN:VTIMEZONE
TZID:Europe/Berlin
X-LIC-LOCATION:Europe/Berlin
BEGIN:DAYLIGHT
DTSTART:20250330T030000
TZOFFSETFROM:+0100
TZOFFSETTO:+0200
TZNAME:CEST
END:DAYLIGHT
END:VTIMEZONE
END:VCALENDAR